BEGIN:VCALENDAR
VERSION:2.0
PRODID:-//UPIKE//NONSGML v1.0//EN
CALSCALE:GREGORIAN
METHOD:PUBLISH
BEGIN:VEVENT
UID:31970-0
SUMMARY:9/26 University of Pikeville Women's Cross Country at Patty Forgey Invitational
DTSTART:20200926T000000Z
DTEND:20200926T070000Z
DTSTAMP:20200611T215327Z
LAST-MODIFIED:20200611T215327Z
SEQUENCE:0
DESCRIPTION:University of Pikeville Women's Cross Country at Patty Forgey Invitationaln https://www.upikebears.com/calendar.aspx?id=5810
END:VEVENT
END:VCALENDAR