BEGIN:VCALENDAR
VERSION:2.0
PRODID:-//UPIKE//NONSGML v1.0//EN
CALSCALE:GREGORIAN
METHOD:PUBLISH
BEGIN:VEVENT
UID:31722-0
SUMMARY:Virtual Nurses Pinning Ceremony
DTSTART:20200430T190000Z
DTEND:20200430T200000Z
DTSTAMP:20200430T184224Z
LAST-MODIFIED:20200430T184522Z
SEQUENCE:0
DESCRIPTION:\n\n\n\n\nJoin us in celebrating the UPIKE-College of Nursing and Human Service's Elliott School of Nursing Class of 2020. Watch the virtual ceremony LIVE on UPIKE and UPIKE's Elliott School of Nursing Facebook pages at 7 p.m. on Thursday\, April 30.\n\n\n\nVisit UPIKE's Facebook\n\n\n\nVisit Elliott School of Nursing's Facebook\n
END:VEVENT
END:VCALENDAR