BEGIN:VCALENDAR
VERSION:2.0
PRODID:-//UPIKE//NONSGML v1.0//EN
CALSCALE:GREGORIAN
METHOD:PUBLISH
BEGIN:VEVENT
UID:31345-0
SUMMARY:4/25 11:00 AM University of Pikeville Men's Tennis at Marietta College
DTSTART:20200425T150000Z
DTEND:20200425T180000Z
DTSTAMP:20200319T195321Z
LAST-MODIFIED:20200319T195321Z
SEQUENCE:0
DESCRIPTION:University of Pikeville Men's Tennis at Marietta College n https://www.upikebears.com/calendar.aspx?id=5735
END:VEVENT
END:VCALENDAR