BEGIN:VCALENDAR
VERSION:2.0
PRODID:-//UPIKE//NONSGML v1.0//EN
CALSCALE:GREGORIAN
METHOD:PUBLISH
BEGIN:VEVENT
UID:31342-0
SUMMARY:4/24 University of Pikeville Men's Track and Field  Mid-South Conference
DTSTART:20200424T000000Z
DTEND:20200424T070000Z
DTSTAMP:20200319T195321Z
LAST-MODIFIED:20200319T195321Z
SEQUENCE:0
DESCRIPTION:University of Pikeville Men's Track and Field  Mid-South Conferencen https://www.upikebears.com/calendar.aspx?id=5696
END:VEVENT
END:VCALENDAR