BEGIN:VCALENDAR
VERSION:2.0
PRODID:-//UPIKE//NONSGML v1.0//EN
CALSCALE:GREGORIAN
METHOD:PUBLISH
BEGIN:VEVENT
UID:313315-0
SUMMARY:4/3 12:00 PM University of Pikeville Men's Tennis at University of the Cumberlands (Ky.)
DTSTART:20210403T160000Z
DTEND:20210403T190000Z
DTSTAMP:20210118T215420Z
LAST-MODIFIED:20210118T215420Z
SEQUENCE:0
DESCRIPTION:University of Pikeville Men's Tennis at University of the Cumberlands (Ky.)n https://www.upikebears.com/calendar.aspx?id=6145
END:VEVENT
END:VCALENDAR