BEGIN:VCALENDAR
VERSION:2.0
PRODID:-//UPIKE//NONSGML v1.0//EN
CALSCALE:GREGORIAN
METHOD:PUBLISH
BEGIN:VEVENT
UID:313304-0
SUMMARY:3/14 12:00 PM University of Pikeville Men's Tennis vs Campbellsville University (Ky.)
DTSTART:20210314T160000Z
DTEND:20210314T190000Z
DTSTAMP:20210118T215417Z
LAST-MODIFIED:20210118T215417Z
SEQUENCE:0
DESCRIPTION:University of Pikeville Men's Tennis vs Campbellsville University (Ky.)n https://www.upikebears.com/calendar.aspx?id=6139
END:VEVENT
END:VCALENDAR