BEGIN:VCALENDAR
VERSION:2.0
PRODID:-//UPIKE//NONSGML v1.0//EN
CALSCALE:GREGORIAN
METHOD:PUBLISH
BEGIN:VEVENT
UID:31302-0
SUMMARY:4/4 12:00 PM University of Pikeville Baseball vs Shawnee State University (Ohio)
DTSTART:20200404T160000Z
DTEND:20200404T190000Z
DTSTAMP:20200319T195320Z
LAST-MODIFIED:20200319T195320Z
SEQUENCE:0
DESCRIPTION:University of Pikeville Baseball vs Shawnee State University (Ohio)n https://www.upikebears.com/calendar.aspx?id=5635
END:VEVENT
END:VCALENDAR