BEGIN:VCALENDAR
VERSION:2.0
PRODID:-//UPIKE//NONSGML v1.0//EN
CALSCALE:GREGORIAN
METHOD:PUBLISH
BEGIN:VEVENT
UID:30952-0
SUMMARY:10/10 6:00 PM University of Pikeville Football vs Cumberland University (Tenn.)
DTSTART:20201010T010000Z
DTEND:20201011T220000Z
DTSTAMP:20200302T185350Z
LAST-MODIFIED:20200302T185350Z
SEQUENCE:0
DESCRIPTION:University of Pikeville Football vs Cumberland University (Tenn.)n https://www.upikebears.com/calendar.aspx?id=5774
END:VEVENT
END:VCALENDAR