BEGIN:VCALENDAR
VERSION:2.0
PRODID:-//UPIKE//NONSGML v1.0//EN
CALSCALE:GREGORIAN
METHOD:PUBLISH
BEGIN:VEVENT
UID:30709-0
SUMMARY:The Langston Hughes Project
DTSTART:20200225T190000Z
DTEND:20200225T210000Z
DTSTAMP:20200213T191607Z
LAST-MODIFIED:20200213T191608Z
SEQUENCE:0
LOCATION:UPIKE Upper Campus
DESCRIPTION:\nTuesday\, February 25\, 2020\n\n\n\nBooth Auditorium\n\n\n\nDoors open at 7 p.m - Show begins at 7:30 p.m.\n
END:VEVENT
END:VCALENDAR