BEGIN:VCALENDAR
VERSION:2.0
PRODID:-//UPIKE//NONSGML v1.0//EN
CALSCALE:GREGORIAN
METHOD:PUBLISH
BEGIN:VEVENT
UID:29177-0
SUMMARY:2/22 12:00 PM University of Pikeville Baseball vs Mount Vernon Nazarene University (Ohio)
DTSTART:20200222T170000Z
DTEND:20200222T200000Z
DTSTAMP:20191027T195340Z
LAST-MODIFIED:20191027T195340Z
SEQUENCE:0
DESCRIPTION:University of Pikeville Baseball vs Mount Vernon Nazarene University (Ohio)n https://www.upikebears.com/calendar.aspx?id=5614
END:VEVENT
END:VCALENDAR