BEGIN:VCALENDAR
VERSION:2.0
PRODID:-//UPIKE//NONSGML v1.0//EN
CALSCALE:GREGORIAN
METHOD:PUBLISH
BEGIN:VEVENT
UID:28468-0
SUMMARY:11/9 University of Pikeville Men's Bowling vs Raider Classic
DTSTART:20191109T000000Z
DTEND:20191109T080000Z
DTSTAMP:20190910T225322Z
LAST-MODIFIED:20190910T225322Z
SEQUENCE:0
DESCRIPTION:University of Pikeville Men's Bowling vs Raider Classicn https://www.upikebears.com/calendar.aspx?id=5576
END:VEVENT
END:VCALENDAR