BEGIN:VCALENDAR
VERSION:2.0
PRODID:-//UPIKE//NONSGML v1.0//EN
CALSCALE:GREGORIAN
METHOD:PUBLISH
BEGIN:VEVENT
UID:28453-0
SUMMARY:10/5 University of Pikeville Men's Bowling vs MSC Louisville Collegiate Classic
DTSTART:20191005T000000Z
DTEND:20191005T070000Z
DTSTAMP:20190910T225322Z
LAST-MODIFIED:20190910T225322Z
SEQUENCE:0
DESCRIPTION:University of Pikeville Men's Bowling vs MSC Louisville Collegiate Classicn https://www.upikebears.com/calendar.aspx?id=5571
END:VEVENT
END:VCALENDAR