BEGIN:VCALENDAR
VERSION:2.0
PRODID:-//UPIKE//NONSGML v1.0//EN
CALSCALE:GREGORIAN
METHOD:PUBLISH
BEGIN:VEVENT
UID:28401-0
SUMMARY:10/4 University of Pikeville Archery  3D National Tournament
DTSTART:20191004T000000Z
DTEND:20191004T070000Z
DTSTAMP:20190909T195325Z
LAST-MODIFIED:20190909T195325Z
SEQUENCE:0
DESCRIPTION:University of Pikeville Archery  3D National Tournamentn https://www.upikebears.com/calendar.aspx?id=5545
END:VEVENT
END:VCALENDAR