BEGIN:VCALENDAR
VERSION:2.0
PRODID:-//UPIKE//NONSGML v1.0//EN
CALSCALE:GREGORIAN
METHOD:PUBLISH
BEGIN:VEVENT
UID:28399-0
SUMMARY:9/21 University of Pikeville Archery  Mid-South Conference 3D Championships
DTSTART:20190921T000000Z
DTEND:20190921T070000Z
DTSTAMP:20190909T195324Z
LAST-MODIFIED:20190909T195324Z
SEQUENCE:0
DESCRIPTION:University of Pikeville Archery  Mid-South Conference 3D Championshipsn https://www.upikebears.com/calendar.aspx?id=5544
END:VEVENT
END:VCALENDAR