BEGIN:VCALENDAR
VERSION:2.0
PRODID:-//UPIKE//NONSGML v1.0//EN
CALSCALE:GREGORIAN
METHOD:PUBLISH
BEGIN:VEVENT
UID:28370-0
SUMMARY:Make an Impact: Strategies to Motivate\, Engage\, and Inspire Students
DTSTART:20190930T160000Z
DTEND:20190930T170000Z
DTSTAMP:20190909T121938Z
LAST-MODIFIED:20190909T121939Z
SEQUENCE:0
DESCRIPTION:\nLocation: COAL 715\n\n\n\nAudience: staff\, student services\, administration\, faculty\n\n\n\nFocus: strategies to support\, motivate and engage students\n\n\n\nFormat: lecture\n\n\n\nAbstract: Many students are psychologically\, socially\, and academically unprepared for the demands of college life. As such\, it is essential that faculty\, student support personnel\, staff and administrators understand the unique qualities and needs of today’s college students in order to motivate\, engage\, and inspire success both in and out of the classroom. Presentation explores characteristics of millennial/Gen Z students and offers a holistic approach to fostering student motivation and engagement. You will learn relationship-building and mindset strategies to more effectively support long-term student success. \n
END:VEVENT
END:VCALENDAR