BEGIN:VCALENDAR
VERSION:2.0
PRODID:-//UPIKE//NONSGML v1.0//EN
CALSCALE:GREGORIAN
METHOD:PUBLISH
BEGIN:VEVENT
UID:27818-0
SUMMARY:2/25 6:00 PM University of Pikeville Men's Basketball vs Bluefield State College
DTSTART:20200225T010000Z
DTEND:20200226T230000Z
DTSTAMP:20190817T185324Z
LAST-MODIFIED:20190817T185324Z
SEQUENCE:0
DESCRIPTION:University of Pikeville Men's Basketball vs Bluefield State Collegen https://www.upikebears.com/calendar.aspx?id=5459
END:VEVENT
END:VCALENDAR