BEGIN:VCALENDAR
VERSION:2.0
PRODID:-//UPIKE//NONSGML v1.0//EN
CALSCALE:GREGORIAN
METHOD:PUBLISH
BEGIN:VEVENT
UID:27816-0
SUMMARY:2/22 4:00 PM University of Pikeville Men's Basketball vs University of the Cumberlands (Ky.)
DTSTART:20200222T210000Z
DTEND:20200222T230000Z
DTSTAMP:20190817T185324Z
LAST-MODIFIED:20190817T185324Z
SEQUENCE:0
DESCRIPTION:University of Pikeville Men's Basketball vs University of the Cumberlands (Ky.)n https://www.upikebears.com/calendar.aspx?id=5458
END:VEVENT
END:VCALENDAR