BEGIN:VCALENDAR
VERSION:2.0
PRODID:-//UPIKE//NONSGML v1.0//EN
CALSCALE:GREGORIAN
METHOD:PUBLISH
BEGIN:VEVENT
UID:27764-0
SUMMARY:11/8 University of Pikeville Women's Basketball at MSC vs SSAC Challenge
DTSTART:20191108T000000Z
DTEND:20191108T070000Z
DTSTAMP:20190817T185322Z
LAST-MODIFIED:20190817T185322Z
SEQUENCE:0
DESCRIPTION:University of Pikeville Women's Basketball at MSC vs SSAC Challengen https://www.upikebears.com/calendar.aspx?id=5537
END:VEVENT
END:VCALENDAR