BEGIN:VCALENDAR
VERSION:2.0
PRODID:-//UPIKE//NONSGML v1.0//EN
CALSCALE:GREGORIAN
METHOD:PUBLISH
BEGIN:VEVENT
UID:27762-0
SUMMARY:11/6 University of Pikeville Men's Basketball at University of South Alabama
DTSTART:20191106T000000Z
DTEND:20191106T070000Z
DTSTAMP:20190817T185322Z
LAST-MODIFIED:20190817T185322Z
SEQUENCE:0
DESCRIPTION:University of Pikeville Men's Basketball at University of South Alabaman https://www.upikebears.com/calendar.aspx?id=5436
END:VEVENT
END:VCALENDAR