BEGIN:VCALENDAR
VERSION:2.0
PRODID:-//UPIKE//NONSGML v1.0//EN
CALSCALE:GREGORIAN
METHOD:PUBLISH
BEGIN:VEVENT
UID:27757-0
SUMMARY:11/1 4:00 PM University of Pikeville Women's Basketball vs Milligan College
DTSTART:20191101T200000Z
DTEND:20191101T220000Z
DTSTAMP:20190817T185321Z
LAST-MODIFIED:20190817T185321Z
SEQUENCE:0
DESCRIPTION:University of Pikeville Women's Basketball vs Milligan Collegen https://www.upikebears.com/calendar.aspx?id=5529
END:VEVENT
END:VCALENDAR