BEGIN:VCALENDAR
VERSION:2.0
PRODID:-//UPIKE//NONSGML v1.0//EN
CALSCALE:GREGORIAN
METHOD:PUBLISH
BEGIN:VEVENT
UID:27500-0
SUMMARY:10/7 University of Pikeville Men's Golf at Mid-South Conference Fall Tournament
DTSTART:20191007T000000Z
DTEND:20191008T035900Z
DTSTAMP:20190726T215322Z
LAST-MODIFIED:20190726T215322Z
SEQUENCE:0
DESCRIPTION:University of Pikeville Men's Golf at Mid-South Conference Fall Tournamentn https://www.upikebears.com/calendar.aspx?id=5427
END:VEVENT
END:VCALENDAR