BEGIN:VCALENDAR
VERSION:2.0
PRODID:-//UPIKE//NONSGML v1.0//EN
CALSCALE:GREGORIAN
METHOD:PUBLISH
BEGIN:VEVENT
UID:27499-0
SUMMARY:9/28 University of Pikeville Men's Golf at University of Pikeville Fall Invitational
DTSTART:20190928T000000Z
DTEND:20190929T035900Z
DTSTAMP:20190726T215322Z
LAST-MODIFIED:20190726T215322Z
SEQUENCE:0
LOCATION:Prestonsburg, KY, StoneCrest Golf Course
DESCRIPTION:University of Pikeville Men's Golf at University of Pikeville Fall Invitationaln https://www.upikebears.com/calendar.aspx?id=5426
END:VEVENT
END:VCALENDAR