BEGIN:VCALENDAR
VERSION:2.0
PRODID:-//UPIKE//NONSGML v1.0//EN
CALSCALE:GREGORIAN
METHOD:PUBLISH
BEGIN:VEVENT
UID:27312-0
SUMMARY:KYCOM Founders Dinner
DTSTART:20190913T180000Z
DTEND:20190913T210000Z
DTSTAMP:20190710T175637Z
LAST-MODIFIED:20190710T175642Z
SEQUENCE:0
DESCRIPTION:
END:VEVENT
END:VCALENDAR