BEGIN:VCALENDAR
VERSION:2.0
PRODID:-//UPIKE//NONSGML v1.0//EN
CALSCALE:GREGORIAN
METHOD:PUBLISH
BEGIN:VEVENT
UID:27232-0
SUMMARY:Branham-Justice annual UPIKE Scholarship Golf Tournament
DTSTART:20200828T080000Z
DTEND:20200828T170000Z
DTSTAMP:20190708T172149Z
LAST-MODIFIED:20200319T194837Z
SEQUENCE:0
LOCATION:Green Meadow Country Club
DESCRIPTION:\nFriday\, August 28th\, 2020\n
END:VEVENT
END:VCALENDAR