BEGIN:VCALENDAR
VERSION:2.0
PRODID:-//UPIKE//NONSGML v1.0//EN
CALSCALE:GREGORIAN
METHOD:PUBLISH
BEGIN:VEVENT
UID:27220-0
SUMMARY:Washington D.C. Alumni Event
DTSTART:20200110T183000Z
DTEND:20200110T203000Z
DTSTAMP:20190708T144015Z
LAST-MODIFIED:20190924T173053Z
SEQUENCE:0
DESCRIPTION:\nDinner reception at the Washington Center Headquarters\n\n\n\n\n
END:VEVENT
END:VCALENDAR