BEGIN:VCALENDAR
VERSION:2.0
PRODID:-//UPIKE//NONSGML v1.0//EN
CALSCALE:GREGORIAN
METHOD:PUBLISH
BEGIN:VEVENT
UID:27209-0
SUMMARY:Louisville\, KY Alumni Event
DTSTART:20191015T183000Z
DTEND:20191015T203000Z
DTSTAMP:20190708T140251Z
LAST-MODIFIED:20190924T172810Z
SEQUENCE:0
LOCATION:Vincenzo&#8217;s Italian Restaurant, 150 S 5th St., Louisville, KY 40202
DESCRIPTION:\nDinner reception at Vincenzo's Italian Restaurant \n
END:VEVENT
END:VCALENDAR