BEGIN:VCALENDAR
VERSION:2.0
PRODID:-//UPIKE//NONSGML v1.0//EN
CALSCALE:GREGORIAN
METHOD:PUBLISH
BEGIN:VEVENT
UID:27207-0
SUMMARY:Lexington\, KY Alumni Event
DTSTART:20190917T183000Z
DTEND:20190917T203000Z
DTSTAMP:20190708T135320Z
LAST-MODIFIED:20190918T183932Z
SEQUENCE:0
LOCATION:Lexington Country Club, 2550 Paris Pike
DESCRIPTION:
END:VEVENT
END:VCALENDAR