BEGIN:VCALENDAR
VERSION:2.0
PRODID:-//UPIKE//NONSGML v1.0//EN
CALSCALE:GREGORIAN
METHOD:PUBLISH
BEGIN:VEVENT
UID:27066-0
SUMMARY:9/7 University of Pikeville Women's Golf vs Kentucky Christian University Fall Invitational
DTSTART:20190907T000000Z
DTEND:20190908T035900Z
DTSTAMP:20190702T195319Z
LAST-MODIFIED:20190702T195319Z
SEQUENCE:0
DESCRIPTION:University of Pikeville Women's Golf vs Kentucky Christian University Fall Invitationaln https://www.upikebears.com/calendar.aspx?id=5407
END:VEVENT
END:VCALENDAR