BEGIN:VCALENDAR
VERSION:2.0
PRODID:-//UPIKE//NONSGML v1.0//EN
CALSCALE:GREGORIAN
METHOD:PUBLISH
BEGIN:VEVENT
UID:265364-0
SUMMARY:2/13 University of Pikeville Men's Bowling vs Lincoln Memorial Collegiate Challenge
DTSTART:20210213T000000Z
DTEND:20210214T045900Z
DTSTAMP:20201229T205330Z
LAST-MODIFIED:20201229T205330Z
SEQUENCE:0
DESCRIPTION:University of Pikeville Men's Bowling vs Lincoln Memorial Collegiate Challengen https://www.upikebears.com/calendar.aspx?id=6094
END:VEVENT
END:VCALENDAR