BEGIN:VCALENDAR
VERSION:2.0
PRODID:-//UPIKE//NONSGML v1.0//EN
CALSCALE:GREGORIAN
METHOD:PUBLISH
BEGIN:VEVENT
UID:265356-0
SUMMARY:1/8 University of Pikeville Men's Bowling vs MSC Baker Bash
DTSTART:20210108T000000Z
DTEND:20210108T080000Z
DTSTAMP:20201229T205328Z
LAST-MODIFIED:20201229T205328Z
SEQUENCE:0
DESCRIPTION:University of Pikeville Men's Bowling vs MSC Baker Bashn https://www.upikebears.com/calendar.aspx?id=6089
END:VEVENT
END:VCALENDAR