BEGIN:VCALENDAR
VERSION:2.0
PRODID:-//UPIKE//NONSGML v1.0//EN
CALSCALE:GREGORIAN
METHOD:PUBLISH
BEGIN:VEVENT
UID:265352-0
SUMMARY:1/23 University of Pikeville Men's Bowling vs MSC Cincinnati Collegiate
DTSTART:20210123T000000Z
DTEND:20210124T045900Z
DTSTAMP:20201229T205327Z
LAST-MODIFIED:20201229T205327Z
SEQUENCE:0
DESCRIPTION:University of Pikeville Men's Bowling vs MSC Cincinnati Collegiaten https://www.upikebears.com/calendar.aspx?id=6091
END:VEVENT
END:VCALENDAR