BEGIN:VCALENDAR
VERSION:2.0
PRODID:-//UPIKE//NONSGML v1.0//EN
CALSCALE:GREGORIAN
METHOD:PUBLISH
BEGIN:VEVENT
UID:24759-0
SUMMARY:10/2 2:00 PM University of Pikeville Women's Soccer vs Campbellsville University (Ky.)
DTSTART:20191002T180000Z
DTEND:20191002T200000Z
DTSTAMP:20190429T195422Z
LAST-MODIFIED:20190429T195422Z
SEQUENCE:0
LOCATION:Pikeville, Ky., Bob Amos Complex
DESCRIPTION:University of Pikeville Women's Soccer vs Campbellsville University (Ky.)n https://www.upikebears.com/calendar.aspx?id=5291
END:VEVENT
END:VCALENDAR