BEGIN:VCALENDAR
VERSION:2.0
PRODID:-//UPIKE//NONSGML v1.0//EN
CALSCALE:GREGORIAN
METHOD:PUBLISH
BEGIN:VEVENT
UID:24755-0
SUMMARY:9/28 1:00 PM University of Pikeville Men's Soccer vs Fisk University
DTSTART:20190928T170000Z
DTEND:20190928T190000Z
DTSTAMP:20190429T195422Z
LAST-MODIFIED:20190429T195422Z
SEQUENCE:0
LOCATION:Pikeville, Ky., Bob Amos Complex
DESCRIPTION:University of Pikeville Men's Soccer vs Fisk Universityn https://www.upikebears.com/calendar.aspx?id=5307
END:VEVENT
END:VCALENDAR