BEGIN:VCALENDAR
VERSION:2.0
PRODID:-//UPIKE//NONSGML v1.0//EN
CALSCALE:GREGORIAN
METHOD:PUBLISH
BEGIN:VEVENT
UID:24748-0
SUMMARY:9/14 2:00 PM University of Pikeville Women's Soccer vs Midway University (Ky.)
DTSTART:20190914T180000Z
DTEND:20190914T200000Z
DTSTAMP:20190429T195421Z
LAST-MODIFIED:20190429T195421Z
SEQUENCE:0
LOCATION:Pikeville, Ky., Bob Amos Complex
DESCRIPTION:University of Pikeville Women's Soccer vs Midway University (Ky.)n https://www.upikebears.com/calendar.aspx?id=5288
END:VEVENT
END:VCALENDAR