BEGIN:VCALENDAR
VERSION:2.0
PRODID:-//UPIKE//NONSGML v1.0//EN
CALSCALE:GREGORIAN
METHOD:PUBLISH
BEGIN:VEVENT
UID:22589-0
SUMMARY:4/24 4:00 PM University of Pikeville Baseball vs Montreat College (N.C.)
DTSTART:20190424T200000Z
DTEND:20190424T230000Z
DTSTAMP:20190422T235320Z
LAST-MODIFIED:20190422T235320Z
SEQUENCE:0
LOCATION:Pikeville, Ky., Johnnie Lemaster Field
DESCRIPTION:University of Pikeville Baseball vs Montreat College (N.C.)n https://www.upikebears.com/calendar.aspx?id=5278
END:VEVENT
END:VCALENDAR