BEGIN:VCALENDAR
VERSION:2.0
PRODID:-//UPIKE//NONSGML v1.0//EN
CALSCALE:GREGORIAN
METHOD:PUBLISH
BEGIN:VEVENT
UID:22568-0
SUMMARY:4/18 4:00 PM [W] University of Pikeville Softball vs Bluefield College
DTSTART:20190418T200000Z
DTEND:20190418T220000Z
DTSTAMP:20190419T025430Z
LAST-MODIFIED:20190419T025430Z
SEQUENCE:0
DESCRIPTION:[W] University of Pikeville Softball vs Bluefield CollegenW 10-2 (5 inn.)n https://www.upikebears.com/calendar.aspx?id=5277
END:VEVENT
END:VCALENDAR