BEGIN:VCALENDAR
VERSION:2.0
PRODID:-//UPIKE//NONSGML v1.0//EN
CALSCALE:GREGORIAN
METHOD:PUBLISH
BEGIN:VEVENT
UID:22182-0
SUMMARY:Physics Zoo
DTSTART:20190419T080000Z
DTEND:20190419T200000Z
DTSTAMP:20190417T182157Z
LAST-MODIFIED:20190417T182352Z
SEQUENCE:0
LOCATION:UPIKE Upper Campus
DESCRIPTION:\nThe event will take place on the 2nd floor of the Armington Science Building on the campus of the University of Pikeville. The exhibits are free and open to the public from 8AM to 8PM. Reservations are not required but large groups may email RobertArts@upike.edu for logistical information.\n\n\n\nThe Physics Zoo is a collection of 50+ hands-on\, interactive physics exhibits. These exhibits allow the young and old alike to interact with real science equipment while at the same time learning a physics principle. Sorry\, we do not have animals at our Zoo\, but we do have hours of physics fun.\n
END:VEVENT
END:VCALENDAR