BEGIN:VCALENDAR
VERSION:2.0
PRODID:-//UPIKE//NONSGML v1.0//EN
CALSCALE:GREGORIAN
METHOD:PUBLISH
BEGIN:VEVENT
UID:21126-0
SUMMARY:Finals Start
DTSTART:20190429T080000Z
DTEND:20190429T190000Z
DTSTAMP:20190416T162411Z
LAST-MODIFIED:20190416T162412Z
SEQUENCE:0
LOCATION:UPIKE Upper Campus
DESCRIPTION:
END:VEVENT
END:VCALENDAR