BEGIN:VCALENDAR
VERSION:2.0
PRODID:-//UPIKE//NONSGML v1.0//EN
CALSCALE:GREGORIAN
METHOD:PUBLISH
BEGIN:VEVENT
UID:21122-0
SUMMARY:Blacklight Jersey End of Year Party
DTSTART:20190426T220000Z
DTEND:20190426T233000Z
DTSTAMP:20190416T161940Z
LAST-MODIFIED:20190416T163407Z
SEQUENCE:0
LOCATION:UPIKE Upper Campus
DESCRIPTION:\nBooth Auditorium\n
END:VEVENT
END:VCALENDAR