BEGIN:VCALENDAR
VERSION:2.0
PRODID:-//UPIKE//NONSGML v1.0//EN
CALSCALE:GREGORIAN
METHOD:PUBLISH
BEGIN:VEVENT
UID:21121-0
SUMMARY:Stacey Kay Concert
DTSTART:20190426T193000Z
DTEND:20190426T213000Z
DTSTAMP:20190416T161855Z
LAST-MODIFIED:20190416T161858Z
SEQUENCE:0
LOCATION:UPIKE Upper Campus
DESCRIPTION:\nBooth Auditorium\n
END:VEVENT
END:VCALENDAR