BEGIN:VCALENDAR
VERSION:2.0
PRODID:-//UPIKE//NONSGML v1.0//EN
CALSCALE:GREGORIAN
METHOD:PUBLISH
BEGIN:VEVENT
UID:205112-0
SUMMARY:12/5 1:00 PM University of Pikeville Men's Basketball at Cumberland University (Tenn.)
DTSTART:20201205T180000Z
DTEND:20201205T200000Z
DTSTAMP:20201202T195322Z
LAST-MODIFIED:20201202T195322Z
SEQUENCE:0
DESCRIPTION:University of Pikeville Men's Basketball at Cumberland University (Tenn.)n https://www.upikebears.com/calendar.aspx?id=6077
END:VEVENT
END:VCALENDAR