BEGIN:VCALENDAR
VERSION:2.0
PRODID:-//UPIKE//NONSGML v1.0//EN
CALSCALE:GREGORIAN
METHOD:PUBLISH
BEGIN:VEVENT
UID:204872-0
SUMMARY:2/26 2:00 PM University of Pikeville Softball at Cumberland University (Tenn.)
DTSTART:20210226T190000Z
DTEND:20210226T210000Z
DTSTAMP:20201202T175333Z
LAST-MODIFIED:20201202T175333Z
SEQUENCE:0
DESCRIPTION:University of Pikeville Softball at Cumberland University (Tenn.)n https://www.upikebears.com/calendar.aspx?id=6049
END:VEVENT
END:VCALENDAR