BEGIN:VCALENDAR
VERSION:2.0
PRODID:-//UPIKE//NONSGML v1.0//EN
CALSCALE:GREGORIAN
METHOD:PUBLISH
BEGIN:VEVENT
UID:204863-0
SUMMARY:3/29 1:00 PM University of Pikeville Softball at Alice Lloyd College (Ky.)
DTSTART:20210329T170000Z
DTEND:20210329T190000Z
DTSTAMP:20201202T175331Z
LAST-MODIFIED:20201202T175331Z
SEQUENCE:0
DESCRIPTION:University of Pikeville Softball at Alice Lloyd College (Ky.)n https://www.upikebears.com/calendar.aspx?id=6062
END:VEVENT
END:VCALENDAR