BEGIN:VCALENDAR
VERSION:2.0
PRODID:-//UPIKE//NONSGML v1.0//EN
CALSCALE:GREGORIAN
METHOD:PUBLISH
BEGIN:VEVENT
UID:204852-0
SUMMARY:4/28 3:00 PM University of Pikeville Softball vs Alice Lloyd College (Ky.)
DTSTART:20210428T190000Z
DTEND:20210428T210000Z
DTSTAMP:20201202T175328Z
LAST-MODIFIED:20201202T175328Z
SEQUENCE:0
DESCRIPTION:University of Pikeville Softball vs Alice Lloyd College (Ky.)n https://www.upikebears.com/calendar.aspx?id=6072
END:VEVENT
END:VCALENDAR