BEGIN:VCALENDAR
VERSION:2.0
PRODID:-//UPIKE//NONSGML v1.0//EN
CALSCALE:GREGORIAN
METHOD:PUBLISH
BEGIN:VEVENT
UID:204846-0
SUMMARY:3/5 3:00 PM University of Pikeville Softball vs Bethel University (Tenn.)
DTSTART:20210305T200000Z
DTEND:20210305T220000Z
DTSTAMP:20201202T175326Z
LAST-MODIFIED:20201202T175326Z
SEQUENCE:0
DESCRIPTION:University of Pikeville Softball vs Bethel University (Tenn.)n https://www.upikebears.com/calendar.aspx?id=6051
END:VEVENT
END:VCALENDAR