BEGIN:VCALENDAR
VERSION:2.0
PRODID:-//UPIKE//NONSGML v1.0//EN
CALSCALE:GREGORIAN
METHOD:PUBLISH
BEGIN:VEVENT
UID:204844-0
SUMMARY:3/26 2:00 PM University of Pikeville Softball vs Thomas More University
DTSTART:20210326T180000Z
DTEND:20210326T200000Z
DTSTAMP:20201202T175326Z
LAST-MODIFIED:20201202T175326Z
SEQUENCE:0
DESCRIPTION:University of Pikeville Softball vs Thomas More Universityn https://www.upikebears.com/calendar.aspx?id=6060
END:VEVENT
END:VCALENDAR