BEGIN:VCALENDAR
VERSION:2.0
PRODID:-//UPIKE//NONSGML v1.0//EN
CALSCALE:GREGORIAN
METHOD:PUBLISH
BEGIN:VEVENT
UID:200920-0
SUMMARY:12/18 5:00 PM University of Pikeville Women's Basketball vs Campbellsville University (Ky.)
DTSTART:20201218T220000Z
DTEND:20201219T000000Z
DTSTAMP:20201130T235349Z
LAST-MODIFIED:20201130T235349Z
SEQUENCE:0
DESCRIPTION:University of Pikeville Women's Basketball vs Campbellsville University (Ky.)n https://www.upikebears.com/calendar.aspx?id=6045
END:VEVENT
END:VCALENDAR