BEGIN:VCALENDAR
VERSION:2.0
PRODID:-//UPIKE//NONSGML v1.0//EN
CALSCALE:GREGORIAN
METHOD:PUBLISH
BEGIN:VEVENT
UID:18620-0
SUMMARY:11/16 1:30 PM University of Pikeville Football at Thomas More University
DTSTART:20191116T183000Z
DTEND:20191116T213000Z
DTSTAMP:20190409T005322Z
LAST-MODIFIED:20190409T005322Z
SEQUENCE:0
DESCRIPTION:University of Pikeville Football at Thomas More Universityn https://www.upikebears.com/calendar.aspx?id=5264
END:VEVENT
END:VCALENDAR