BEGIN:VCALENDAR
VERSION:2.0
PRODID:-//UPIKE//NONSGML v1.0//EN
CALSCALE:GREGORIAN
METHOD:PUBLISH
BEGIN:VEVENT
UID:18618-0
SUMMARY:11/2 2:30 PM University of Pikeville Football at Cumberland University (Tenn.)
DTSTART:20191102T183000Z
DTEND:20191102T213000Z
DTSTAMP:20190409T005322Z
LAST-MODIFIED:20190409T005322Z
SEQUENCE:0
DESCRIPTION:University of Pikeville Football at Cumberland University (Tenn.)n https://www.upikebears.com/calendar.aspx?id=5262
END:VEVENT
END:VCALENDAR