BEGIN:VCALENDAR
VERSION:2.0
PRODID:-//UPIKE//NONSGML v1.0//EN
CALSCALE:GREGORIAN
METHOD:PUBLISH
BEGIN:VEVENT
UID:17551-0
SUMMARY:4/6 3:00 PM University of Pikeville Baseball vs Campbellsville University (Ky.)
DTSTART:20190406T190000Z
DTEND:20190406T220000Z
DTSTAMP:20190406T205354Z
LAST-MODIFIED:20190406T205354Z
SEQUENCE:0
DESCRIPTION:University of Pikeville Baseball vs Campbellsville University (Ky.)n https://www.upikebears.com/calendar.aspx?id=5252
END:VEVENT
END:VCALENDAR